BEGIN:VCALENDAR
VERSION:2.0
PRODID:awak.at
CALSCALE:GREGORIAN
METHOD:PUBLISH
BEGIN:VTIMEZONE
TZID:UTCTime
BEGIN:STANDARD
DTSTART:19671028T030000Z
RRULE:FREQ=YEARLY;BYDAY=-1SU;BYMONTH=10
TZOFFSETFROM:+0100
TZOFFSETTO:+0000
END:STANDARD
BEGIN:DAYLIGHT
DTSTART:19870325T020000Z
RRULE:FREQ=YEARLY;BYDAY=1SU;BYMONTH=3
TZOFFSETFROM:+0000
TZOFFSETTO:+0000
END:DAYLIGHT
END:VTIMEZONE
BEGIN:VEVENT
DTSTART;TZID=UTCTime:20260505T070000Z
DTEND;TZID=UTCTime:20260505T153000Z
SUMMARY:(20260505A-8) Wie vermeide ich kapitale Fehler im Berufs-, Haftungs- und Versicherungsrecht? Erfahrungsberichte von anerkannten Experten
LOCATION:AWAK - LeopoldQuartier - Obere Donaustraße 25/1/1 - Raum "Themis", 1020 Wien (1020 Wien, Obere Donaustraße 25/1/1)
X-ALT-DESC;FMTTYPE=text/html:<p><strong>Dienstag, 5. Mai 2026</strong></p><p><strong>09.00 - 10.30</strong></p><ul><li>Berufsrechtliche Grundlagen (Heinke)</li><li>Core Values der Anw&auml;ltin bzw. des Anwalts&nbsp;(Heinke)</li><li>Darf die Anw&auml;ltin bzw. der&nbsp;Anwalt ihre bzw. seine Haftung beschr&auml;nken?&nbsp;(Heinke)</li><li>Was gilt f&uuml;r das Standesrecht, Haftungsrecht sowie Versicherungsrecht, wenn gegen Berufspflichten versto&szlig;en wird.&nbsp;(Heinke)</li><li>Risiko Databreach - Vorsorge &uuml;ber Cyber-Versicherung? (V&ouml;lkl)</li></ul><p><strong>11.00 - 12.30</strong></p><ul><li>Haftungszurechnungsgr&uuml;nde: Worauf es in der Praxis ankommt (V&ouml;lkl)</li><li>Warum die&nbsp;genaue Beschreibung des Auftragsinhalts (bei High-Risk-Mandaten)&nbsp;wichtig ist (Stichwort: Engagement Letter)&nbsp;(V&ouml;lkl)</li><li>Wie gestalte ich&nbsp;Haftungsvereinbarungen? (Heinke / V&ouml;lkl / Wilhelmer)</li><li>Welchen Einfluss haben Haftungsbeschr&auml;nkungen auf meinen Versicherungsschutz? (Wilhelmer)</li></ul><p><strong>13.30 - 15.00</strong></p><ul><li>Die typischen Haftungsf&auml;lle mit Quervergleich zum Versicherungsschutz (Stichwort Fristvers&auml;umnisse)&nbsp;(V&ouml;lkl)</li><li>Die existenzbedrohenden Haftungsf&auml;lle mit Quervergleich zum Versicherungsschutz (Ist meine Versicherungssumme ausreichend hoch bemessen)? (Stichwort: Einlagenr&uuml;ckgew&auml;hr, Treuhandschaften, Testament) (V&ouml;lkl / Wilhelmer)</li><li>Beispiele aus der Praxis&nbsp;zu&nbsp;Gro&szlig;sch&auml;den&nbsp;(Wilhelmer)</li><li>Wie ist die aktuelle Schadenentwicklung im Bereich der Rechtsanwaltschaft? Sowie anderer Berufsgruppen, wie etwa Wirtschaftspr&uuml;fer?&nbsp;(Wilhelmer)</li></ul><p><strong>15.30 - 17.00</strong></p><ul><li>Welche Fehler sollten beim Versicherungsschutz vermieden werden. Beispiele aus der Praxis&nbsp;(Wilhelmer)</li><li>Was deckt die Berufshafpflichtversicherung einer Anw&auml;ltin bzw. eines Anwalts, was nicht?&nbsp;(Wilhelmer)</li><li>Besteht z.B. Versicherungsschutz f&uuml;r Fremdorganschaft im Mandatenunternehmen?&nbsp;(Wilhelmer)</li><li>Welche anderen Versicherungsl&ouml;sungen sollten neben einer Berufshaftpflichtversicherung ber&uuml;cksichtigt werden?&nbsp;(Wilhelmer)</li><li>Wie verhalte ich mich im Versicherungsfall/Schadensfall richtig?&nbsp;(Heinke / V&ouml;lkl / Wilhelmer)</li></ul>
PRIORITY:3
END:VEVENT
END:VCALENDAR
