BEGIN:VCALENDAR
VERSION:2.0
PRODID:awak.at
CALSCALE:GREGORIAN
METHOD:PUBLISH
BEGIN:VTIMEZONE
TZID:UTCTime
BEGIN:STANDARD
DTSTART:19671028T030000Z
RRULE:FREQ=YEARLY;BYDAY=-1SU;BYMONTH=10
TZOFFSETFROM:+0100
TZOFFSETTO:+0000
END:STANDARD
BEGIN:DAYLIGHT
DTSTART:19870325T020000Z
RRULE:FREQ=YEARLY;BYDAY=1SU;BYMONTH=3
TZOFFSETFROM:+0000
TZOFFSETTO:+0000
END:DAYLIGHT
END:VTIMEZONE
BEGIN:VEVENT
DTSTART;TZID=UTCTime:20260512T143000Z
DTEND;TZID=UTCTime:20260512T180000Z
SUMMARY:(20260512-3) Reden, Führen, Präsentieren - Rhetorik und Kommunikation kompakt, Tipps aus der anwaltlichen Praxis
LOCATION:Hotel Schillerpark Linz (4020 Linz, Schillerplatz, Eingang: Rainerstraße 2 - 4)
X-ALT-DESC;FMTTYPE=text/html:<p><strong>Dienstag, 12. Mai 2026</strong></p><p>16.30 - 20.00 Uhr (inkl. 30 min&uuml;tiger Kaffeepause)&nbsp;</p><p>Das Seminar macht Sie mit grundlegenden Soft-Skills f&uuml;r Dialoge und Pr&auml;sentationen vertraut. Dazu z&auml;hlen Vortr&auml;ge ebenso wie Kunden-Pitches, Verhandlungen, Lehrveranstaltungen oder Pl&auml;doyers.</p><ul><li>Die optimale Vorbereitung</li><li>Rahmenbedingungen und Inhalte: Sie sind der Boss!</li><li>Timing, Stil und Pr&auml;senz</li><li>Schw&auml;chen zu St&auml;rken machen</li><li>Aufmerksamkeit lenken und Zuh&ouml;rer f&uuml;hren</li><li>Der Mehrwert von Kreativit&auml;t und Humor</li></ul>
PRIORITY:3
END:VEVENT
END:VCALENDAR
