BEGIN:VCALENDAR
VERSION:2.0
PRODID:awak.at
CALSCALE:GREGORIAN
METHOD:PUBLISH
BEGIN:VTIMEZONE
TZID:UTCTime
BEGIN:STANDARD
DTSTART:19671028T030000Z
RRULE:FREQ=YEARLY;BYDAY=-1SU;BYMONTH=10
TZOFFSETFROM:+0100
TZOFFSETTO:+0000
END:STANDARD
BEGIN:DAYLIGHT
DTSTART:19870325T020000Z
RRULE:FREQ=YEARLY;BYDAY=1SU;BYMONTH=3
TZOFFSETFROM:+0000
TZOFFSETTO:+0000
END:DAYLIGHT
END:VTIMEZONE
BEGIN:VEVENT
DTSTART;TZID=UTCTime:20260527T150000Z
DTEND;TZID=UTCTime:20260527T183000Z
SUMMARY:(20260527-8) Der Scheidungsvergleich – Die Tücken der Praxis enthüllt
LOCATION:AWAK - LeopoldQuartier - Obere Donaustraße 25/1/1 - Raum "Minerva”, 1020 Wien (1020 Wien, Obere Donaustraße 25/1/1)
X-ALT-DESC;FMTTYPE=text/html:<p><strong>Mittwoch, 27. Mai 2026 (17.00 - 20.30 Uhr)</strong></p><ul><li>Eingrenzung der Aufgaben des Vertragserrichters anhand von Haftungsf&auml;llen aus der Rechtsprechung</li><li>Beleuchtung der einzelnen Bausteine des Scheidungsvergleichs und Analyse konkreter Formulierungen - Praxisbeispiele und interaktiver Austausch mit den Teilnehmern.</li><li>Diskussion mit den Teilnehmerinnen und Teilnehmern &uuml;ber vertragsoptimale Gestaltung des Scheidungsvergleichs</li></ul>
PRIORITY:3
END:VEVENT
END:VCALENDAR
