BEGIN:VCALENDAR
VERSION:2.0
PRODID:awak.at
CALSCALE:GREGORIAN
METHOD:PUBLISH
BEGIN:VTIMEZONE
TZID:UTCTime
BEGIN:STANDARD
DTSTART:19671028T030000Z
RRULE:FREQ=YEARLY;BYDAY=-1SU;BYMONTH=10
TZOFFSETFROM:+0100
TZOFFSETTO:+0000
END:STANDARD
BEGIN:DAYLIGHT
DTSTART:19870325T020000Z
RRULE:FREQ=YEARLY;BYDAY=1SU;BYMONTH=3
TZOFFSETFROM:+0000
TZOFFSETTO:+0000
END:DAYLIGHT
END:VTIMEZONE
BEGIN:VEVENT
DTSTART;TZID=UTCTime:20260528T070000Z
DTEND;TZID=UTCTime:20260528T150000Z
SUMMARY:(20260528-3) Zivilverfahren Gesamt - Von (vor) der Klage bis zur Revision
LOCATION:Hotel Schillerpark Linz (4020 Linz, Schillerplatz, Eingang: Rainerstraße 2 - 4)
X-ALT-DESC;FMTTYPE=text/html:<p><strong>Donnerstag, 28. Mai 2026</strong></p><p><strong><em>Verfahren erster Instanz</em></strong></p><p>09.00 - 10.30<br />Begr&uuml;&szlig;ung (Lanzinger)<br />Mandatsgespr&auml;ch und Prozessvorbereitung (Lanzinger)</p><p>11.00 - 12.30<br />Prozesseinleitung (Lanzinger)<br />Vorb. Tagsatzungen und Substitution (Lanzinger)</p><p>13.30 - 15.00<br />Beweisrecht, Beweisverfahren&nbsp;und Protokollierung (Kn&ouml;tzl)</p><p>15.30 - 17.00<br />Geschicktes Verhandeln und Konfliktmanagement (Kn&ouml;tzl)</p><p><br /><strong>Freitag, 29. Mai 2026</strong></p><p>09.00 - 10.30<br />Crashkurs Kostenrecht (Lanzinger)<br />Weitere Beweismittel (Zeugen, SV) (Kn&ouml;tzl)</p><p>11.00 - 12.30<br />Prozessbeendigung (Kn&ouml;tzl)<br />Harvard-Konzept (Kn&ouml;tzl)<br /><br /><em><strong>Rechtsmittelverfahren</strong></em></p><p>13.30 - 15.30<br />Warum ein Rechtsmittel? (Lanzinger)<br />Berufung (Oberndorfer)</p><p>16.00 - 18.00<br />Berufung (Oberndorfer)<br />Fall 1<br />Fall 2</p><p><br /><strong>Samstag, 30. Mai 2026</strong></p><p>09.00 - 10.30<br />Berufungsverfahren (J&auml;ger)</p><p>11.00 - 12.30<br />Revision und Revisionsverfahren (Hargassner)<br />Fall 4</p><p>13.30 - 15.00<br />Rekurs (Oberndorfer)<br />Rekursverfahren (J&auml;ger)</p><p>15.30 - 17.00<br />Fall 5<br />Revisionsrekurs (Hargassner)<br />Struktur des OGH (Hargassner)<br />Verabschiedung (Lanzinger)</p>
PRIORITY:3
END:VEVENT
BEGIN:VEVENT
DTSTART;TZID=UTCTime:20260529T070000Z
DTEND;TZID=UTCTime:20260529T160000Z
SUMMARY:(20260528-3) Zivilverfahren Gesamt - Von (vor) der Klage bis zur Revision
LOCATION:Hotel Schillerpark Linz (4020 Linz, Schillerplatz, Eingang: Rainerstraße 2 - 4)
X-ALT-DESC;FMTTYPE=text/html:<p><strong>Donnerstag, 28. Mai 2026</strong></p><p><strong><em>Verfahren erster Instanz</em></strong></p><p>09.00 - 10.30<br />Begr&uuml;&szlig;ung (Lanzinger)<br />Mandatsgespr&auml;ch und Prozessvorbereitung (Lanzinger)</p><p>11.00 - 12.30<br />Prozesseinleitung (Lanzinger)<br />Vorb. Tagsatzungen und Substitution (Lanzinger)</p><p>13.30 - 15.00<br />Beweisrecht, Beweisverfahren&nbsp;und Protokollierung (Kn&ouml;tzl)</p><p>15.30 - 17.00<br />Geschicktes Verhandeln und Konfliktmanagement (Kn&ouml;tzl)</p><p><br /><strong>Freitag, 29. Mai 2026</strong></p><p>09.00 - 10.30<br />Crashkurs Kostenrecht (Lanzinger)<br />Weitere Beweismittel (Zeugen, SV) (Kn&ouml;tzl)</p><p>11.00 - 12.30<br />Prozessbeendigung (Kn&ouml;tzl)<br />Harvard-Konzept (Kn&ouml;tzl)<br /><br /><em><strong>Rechtsmittelverfahren</strong></em></p><p>13.30 - 15.30<br />Warum ein Rechtsmittel? (Lanzinger)<br />Berufung (Oberndorfer)</p><p>16.00 - 18.00<br />Berufung (Oberndorfer)<br />Fall 1<br />Fall 2</p><p><br /><strong>Samstag, 30. Mai 2026</strong></p><p>09.00 - 10.30<br />Berufungsverfahren (J&auml;ger)</p><p>11.00 - 12.30<br />Revision und Revisionsverfahren (Hargassner)<br />Fall 4</p><p>13.30 - 15.00<br />Rekurs (Oberndorfer)<br />Rekursverfahren (J&auml;ger)</p><p>15.30 - 17.00<br />Fall 5<br />Revisionsrekurs (Hargassner)<br />Struktur des OGH (Hargassner)<br />Verabschiedung (Lanzinger)</p>
PRIORITY:3
END:VEVENT
BEGIN:VEVENT
DTSTART;TZID=UTCTime:20260530T070000Z
DTEND;TZID=UTCTime:20260530T150000Z
SUMMARY:(20260528-3) Zivilverfahren Gesamt - Von (vor) der Klage bis zur Revision
LOCATION:Hotel Schillerpark Linz (4020 Linz, Schillerplatz, Eingang: Rainerstraße 2 - 4)
X-ALT-DESC;FMTTYPE=text/html:<p><strong>Donnerstag, 28. Mai 2026</strong></p><p><strong><em>Verfahren erster Instanz</em></strong></p><p>09.00 - 10.30<br />Begr&uuml;&szlig;ung (Lanzinger)<br />Mandatsgespr&auml;ch und Prozessvorbereitung (Lanzinger)</p><p>11.00 - 12.30<br />Prozesseinleitung (Lanzinger)<br />Vorb. Tagsatzungen und Substitution (Lanzinger)</p><p>13.30 - 15.00<br />Beweisrecht, Beweisverfahren&nbsp;und Protokollierung (Kn&ouml;tzl)</p><p>15.30 - 17.00<br />Geschicktes Verhandeln und Konfliktmanagement (Kn&ouml;tzl)</p><p><br /><strong>Freitag, 29. Mai 2026</strong></p><p>09.00 - 10.30<br />Crashkurs Kostenrecht (Lanzinger)<br />Weitere Beweismittel (Zeugen, SV) (Kn&ouml;tzl)</p><p>11.00 - 12.30<br />Prozessbeendigung (Kn&ouml;tzl)<br />Harvard-Konzept (Kn&ouml;tzl)<br /><br /><em><strong>Rechtsmittelverfahren</strong></em></p><p>13.30 - 15.30<br />Warum ein Rechtsmittel? (Lanzinger)<br />Berufung (Oberndorfer)</p><p>16.00 - 18.00<br />Berufung (Oberndorfer)<br />Fall 1<br />Fall 2</p><p><br /><strong>Samstag, 30. Mai 2026</strong></p><p>09.00 - 10.30<br />Berufungsverfahren (J&auml;ger)</p><p>11.00 - 12.30<br />Revision und Revisionsverfahren (Hargassner)<br />Fall 4</p><p>13.30 - 15.00<br />Rekurs (Oberndorfer)<br />Rekursverfahren (J&auml;ger)</p><p>15.30 - 17.00<br />Fall 5<br />Revisionsrekurs (Hargassner)<br />Struktur des OGH (Hargassner)<br />Verabschiedung (Lanzinger)</p>
PRIORITY:3
END:VEVENT
END:VCALENDAR
