BEGIN:VCALENDAR
VERSION:2.0
PRODID:awak.at
CALSCALE:GREGORIAN
METHOD:PUBLISH
BEGIN:VTIMEZONE
TZID:UTCTime
BEGIN:STANDARD
DTSTART:19671028T030000Z
RRULE:FREQ=YEARLY;BYDAY=-1SU;BYMONTH=10
TZOFFSETFROM:+0100
TZOFFSETTO:+0000
END:STANDARD
BEGIN:DAYLIGHT
DTSTART:19870325T020000Z
RRULE:FREQ=YEARLY;BYDAY=1SU;BYMONTH=3
TZOFFSETFROM:+0000
TZOFFSETTO:+0000
END:DAYLIGHT
END:VTIMEZONE
BEGIN:VEVENT
DTSTART;TZID=UTCTime:20260609T070000Z
DTEND;TZID=UTCTime:20260609T150000Z
SUMMARY:(20260609-5) Erbrecht, Erbrechtsstreit und Abhandlung – Wissenswertes für die Praxis
LOCATION:Akademie der Steuerberater und Wirtschaftsprüfer GmbH | Graz (8010 Graz, Leechgasse 25/Top 2)
X-ALT-DESC;FMTTYPE=text/html:<p><strong>Dienstag, 9. Juni 2026</strong></p><p><strong>9:00 Uhr bis 10:30 Uhr &nbsp;&nbsp;&nbsp;&nbsp;&nbsp;</strong>&nbsp;&nbsp;&nbsp;&nbsp;&nbsp;&nbsp;&nbsp;&nbsp;&nbsp;&nbsp;</p><p>(RA Dr. <strong>Keber</strong>) &bdquo;<em>J&uuml;ngste Rechtsprechung zum materiellen Erbrecht &ndash; Auswirkungen auf die Praxis Teil 1</em>&ldquo; (Arbeitstitel)</p><p>&nbsp;</p><p><strong>10:30 Uhr bis 11:00 Uhr &nbsp;</strong>&nbsp;&nbsp;&nbsp;&nbsp;&nbsp;&nbsp;&nbsp;&nbsp;&nbsp;&nbsp;&nbsp;&nbsp;</p><p>Pause</p><p>&nbsp;</p><p><strong>11:00 Uhr bis 12:30 Uhr &nbsp;&nbsp;</strong>&nbsp;&nbsp;&nbsp;&nbsp;&nbsp;&nbsp;&nbsp;&nbsp;&nbsp;&nbsp;&nbsp;</p><p>(RA Hon.-Prof.&nbsp;Dr.&nbsp;<strong>Scheuba</strong>) &bdquo;<em>Praxistipps zu Erbrechtsstreit und Abhandlung Teil 1</em>&ldquo; (Arbeitstitel)</p><p>&nbsp;</p><p><strong>12:30 Uhr bis 13:30 Uhr </strong>&nbsp;&nbsp;&nbsp;&nbsp;&nbsp;&nbsp;&nbsp;&nbsp;&nbsp;&nbsp;&nbsp;&nbsp;&nbsp;</p><p>Mittagspause</p><p>&nbsp;</p><p><strong>13:30 Uhr bis 15:00 Uhr </strong>&nbsp;&nbsp;&nbsp;&nbsp;&nbsp;&nbsp;&nbsp;&nbsp;&nbsp;&nbsp;&nbsp;&nbsp;&nbsp;</p><p>(RA Dr. <strong>Keber</strong>) &bdquo;<em>J&uuml;ngste Rechtsprechung zum materiellen Erbrecht &ndash; Auswirkungen auf die Praxis Teil 2</em>&ldquo; (Arbeitstitel)</p><p>&nbsp;</p><p><strong>15:00 Uhr bis 15:30 Uhr </strong>&nbsp;&nbsp;&nbsp;&nbsp;&nbsp;&nbsp;&nbsp;&nbsp;&nbsp;&nbsp;&nbsp;&nbsp;&nbsp;</p><p>Pause</p><p>&nbsp;</p><p><strong>15:30 Uhr bis 17:00 Uhr</strong> &nbsp;&nbsp;&nbsp;&nbsp;&nbsp;&nbsp;&nbsp;&nbsp;&nbsp;&nbsp;&nbsp;&nbsp;&nbsp;</p><p>(RA Hon.-Prof.&nbsp;Dr. <strong>Scheuba</strong>) &bdquo;<em>Praxistipps zu Erbrechtsstreit und Abhandlung Teil 1</em>&ldquo; (Arbeitstitel)</p>
PRIORITY:3
END:VEVENT
END:VCALENDAR
