BEGIN:VCALENDAR
VERSION:2.0
PRODID:awak.at
CALSCALE:GREGORIAN
METHOD:PUBLISH
BEGIN:VTIMEZONE
TZID:UTCTime
BEGIN:STANDARD
DTSTART:19671028T030000Z
RRULE:FREQ=YEARLY;BYDAY=-1SU;BYMONTH=10
TZOFFSETFROM:+0100
TZOFFSETTO:+0000
END:STANDARD
BEGIN:DAYLIGHT
DTSTART:19870325T020000Z
RRULE:FREQ=YEARLY;BYDAY=1SU;BYMONTH=3
TZOFFSETFROM:+0000
TZOFFSETTO:+0000
END:DAYLIGHT
END:VTIMEZONE
BEGIN:VEVENT
DTSTART;TZID=UTCTime:20260710T070000Z
DTEND;TZID=UTCTime:20260710T150000Z
SUMMARY:(20260710-6) Vom Liegenschaftsvertrag zum Grundbucheintrag - Vertragserrichtung von der Informationsaufnahme bis zur Verbücherung und Treuhandschaft
LOCATION:Eventcenter Villa Blanka (6020 Innsbruck, Weiherburggasse 8)
X-ALT-DESC;FMTTYPE=text/html:<p><strong>Freitag, 10. Juli 2026&nbsp;(Villa Blanka)</strong></p><p><strong>09.00 - 10.30</strong><br />Gruppenarbeit Vertragsgestaltung Fall 1</p><p><strong>11.00 - 12.30</strong><br />Gruppenarbeit Vertragsgestaltung Fall 2</p><p><strong>13.30 - 15.00</strong><br />Sonderfragen beh&ouml;rdliche/gerichtliche Genehmigungen, &Uuml;berblick Grundverkehrsrecht</p><p><strong>15.30 - 17.00</strong><br />Treuhandschaft, &Uuml;berblick Steuern<br />&nbsp;</p><p><strong>Samstag, 11. Juli 2026&nbsp;(Bezirksgericht Hall in Tirol)</strong></p><p><strong>09.00 - 11.00</strong><br />Vorstellung und Besichtigung des &bdquo;alten&ldquo; h&auml;ndischen Grundbuches richtiges Lesen von Grundbuchausz&uuml;gen</p><p><strong>11.30 - 12.30</strong><br />Zusammenfassung und Diskussion mit den Referenten</p>
PRIORITY:3
END:VEVENT
BEGIN:VEVENT
DTSTART;TZID=UTCTime:20260711T070000Z
DTEND;TZID=UTCTime:20260711T103000Z
SUMMARY:(20260710-6) Vom Liegenschaftsvertrag zum Grundbucheintrag - Vertragserrichtung von der Informationsaufnahme bis zur Verbücherung und Treuhandschaft
LOCATION:Eventcenter Villa Blanka (6020 Innsbruck, Weiherburggasse 8)
X-ALT-DESC;FMTTYPE=text/html:<p><strong>Freitag, 10. Juli 2026&nbsp;(Villa Blanka)</strong></p><p><strong>09.00 - 10.30</strong><br />Gruppenarbeit Vertragsgestaltung Fall 1</p><p><strong>11.00 - 12.30</strong><br />Gruppenarbeit Vertragsgestaltung Fall 2</p><p><strong>13.30 - 15.00</strong><br />Sonderfragen beh&ouml;rdliche/gerichtliche Genehmigungen, &Uuml;berblick Grundverkehrsrecht</p><p><strong>15.30 - 17.00</strong><br />Treuhandschaft, &Uuml;berblick Steuern<br />&nbsp;</p><p><strong>Samstag, 11. Juli 2026&nbsp;(Bezirksgericht Hall in Tirol)</strong></p><p><strong>09.00 - 11.00</strong><br />Vorstellung und Besichtigung des &bdquo;alten&ldquo; h&auml;ndischen Grundbuches richtiges Lesen von Grundbuchausz&uuml;gen</p><p><strong>11.30 - 12.30</strong><br />Zusammenfassung und Diskussion mit den Referenten</p>
PRIORITY:3
END:VEVENT
END:VCALENDAR
