BEGIN:VCALENDAR
VERSION:2.0
PRODID:awak.at
CALSCALE:GREGORIAN
METHOD:PUBLISH
BEGIN:VTIMEZONE
TZID:UTCTime
BEGIN:STANDARD
DTSTART:19671028T030000Z
RRULE:FREQ=YEARLY;BYDAY=-1SU;BYMONTH=10
TZOFFSETFROM:+0100
TZOFFSETTO:+0000
END:STANDARD
BEGIN:DAYLIGHT
DTSTART:19870325T020000Z
RRULE:FREQ=YEARLY;BYDAY=1SU;BYMONTH=3
TZOFFSETFROM:+0000
TZOFFSETTO:+0000
END:DAYLIGHT
END:VTIMEZONE
BEGIN:VEVENT
DTSTART;TZID=UTCTime:20261014T070000Z
DTEND;TZID=UTCTime:20261014T150000Z
SUMMARY:(20261014-6) Standes- und Honorarrecht: Anwaltliche Pflichten, Rechte und Standesvertretung, Honoraransprüche gegenüber KlientInnen und Grundzüge des Kostenersatzrechts
LOCATION:Alphotel Innsbruck (6020 Innsbruck, Bernhard-Höferl-Straße 16)
X-ALT-DESC;FMTTYPE=text/html:<p><strong>Mittwoch, 14. Oktober 2026</strong></p><p>09.00 - 10.30 (KLOTZ/LEHNER)</p><p>Einleitung und &Uuml;berblick</p><p>Honorar und Kosten Teil 1:</p><p>Rechtsgrundlagen und Grenzen des anwaltlichen Honoraranspruchs unter besonderer Ber&uuml;cksichtigung des RATG</p><p>&nbsp;</p><p>11.00 - 12.30 (KLOTZ/LEHNER)</p><p>Fortsetzung Honorar:</p><p>Rechtsgrundlagen und Grenzen des anwaltlichen Honoraranspruchs unter besonderer Ber&uuml;cksichtigung des RATG</p><p>&nbsp;</p><p>13.30 - 15.00 (KLOTZ/LEHNER)</p><p>Honorar und Kosten Teil 2:</p><p>Grundz&uuml;ge des Kostenersatzrechts;</p><p>praxisorientiert mit Fallbeispielen</p><p>&nbsp;</p><p>15.30 - 17.00 (KLOTZ/LEHNER)</p><p>Fortsetzung:</p><p>Grundz&uuml;ge des Kostenersatzrechts;</p><p>praxisorientiert mit Fallbeispielen</p><p>&nbsp;</p><p><strong>Donnerstag, 15. Oktober 2026</strong></p><p>09.00 - 10.30 (W&Ouml;SS/LEHNER)</p><p>Anwaltliche Anti-Geldw&auml;scherei-Compliance:</p><p>Merkmale, Methoden und Formen von Geldw&auml;scherei;</p><p>Identifikation &bdquo;Know Your Customer&ldquo;;</p><p>Verhaltensmuster;</p><p>Pflichten des Rechtsanwaltes;</p><p>Praxisbeispiele</p><p>&nbsp;</p><p>11.00 - 12.30 (W&Ouml;SS/LEHNER)</p><p>Fortsetzung Anwaltliche Anti-Geldw&auml;scherei-Compliance</p><p>&nbsp;</p><p>13.30 - 15.00 (LEHNER/W&Ouml;SS)</p><p>Das Berufsbild des Rechtsanwalts</p><p>Die Grundprinzipien rechtsanwaltlicher T&auml;tigkeit, Schwerpunkt: Unabh&auml;ngigkeit;</p><p>Die Selbstverwaltung der Rechtsanw&auml;lte;</p><p>Verfahrenshilfe;</p><p>Kammerkommiss&auml;r;</p><p>Rechtsanwaltsgesellschaften;</p><p>&nbsp;</p><p>15.30 - 17.00 (LEHNER/W&Ouml;SS)</p><p>Fortsetzung:</p><p>Rechtsanwaltliche Versicherungen;</p><p>Versorgungseinrichtung;</p><p>&Ouml;ffentlichkeitsarbeit und Werbung;</p><p>Kanzleif&uuml;hrung;</p><p>Pflichten gegen&uuml;ber der Standesbeh&ouml;rde; Fortbildungspflicht</p><p>Grundz&uuml;ge der Fremdgeldverwaltung;</p><p>Doppelvertretung;</p><p>Treuepflicht &sect; 9 RAO (Beginn)</p><p>&nbsp;</p><p><strong>Freitag, 16. Oktober 2026</strong></p><p>09.00 - 09.45&nbsp;(LEHNER)</p><p>Disziplinartatbest&auml;nde des DSt</p><p>Grundz&uuml;ge des Disziplinarverfahrens</p><p>&nbsp;</p><p>09.45&nbsp;- 10.30&nbsp;(LEHNER)</p><p>Berufliche Verschwiegenheit</p><p>&nbsp;</p><p>11.00 -&nbsp;12.30 (LEHNER)</p><p>Fallbeispiel: Vorbringen im Gerichtsverfahren (&sect; 9 RAO)</p><p>Verhalten der Rechtsanw&auml;ltin/des Rechtsanwalts</p><p>-&nbsp;&nbsp;&nbsp;&nbsp;&nbsp;&nbsp;&nbsp;gegen&uuml;ber Berufskollegen,</p><p>-&nbsp;&nbsp;&nbsp;&nbsp;&nbsp;&nbsp;&nbsp;gegen&uuml;ber Gerichten, Beh&ouml;rden und Dritten,</p><p>au&szlig;erberufliches Verhalten</p>
PRIORITY:3
END:VEVENT
BEGIN:VEVENT
DTSTART;TZID=UTCTime:20261015T070000Z
DTEND;TZID=UTCTime:20261015T150000Z
SUMMARY:(20261014-6) Standes- und Honorarrecht: Anwaltliche Pflichten, Rechte und Standesvertretung, Honoraransprüche gegenüber KlientInnen und Grundzüge des Kostenersatzrechts
LOCATION:Alphotel Innsbruck (6020 Innsbruck, Bernhard-Höferl-Straße 16)
X-ALT-DESC;FMTTYPE=text/html:<p><strong>Mittwoch, 14. Oktober 2026</strong></p><p>09.00 - 10.30 (KLOTZ/LEHNER)</p><p>Einleitung und &Uuml;berblick</p><p>Honorar und Kosten Teil 1:</p><p>Rechtsgrundlagen und Grenzen des anwaltlichen Honoraranspruchs unter besonderer Ber&uuml;cksichtigung des RATG</p><p>&nbsp;</p><p>11.00 - 12.30 (KLOTZ/LEHNER)</p><p>Fortsetzung Honorar:</p><p>Rechtsgrundlagen und Grenzen des anwaltlichen Honoraranspruchs unter besonderer Ber&uuml;cksichtigung des RATG</p><p>&nbsp;</p><p>13.30 - 15.00 (KLOTZ/LEHNER)</p><p>Honorar und Kosten Teil 2:</p><p>Grundz&uuml;ge des Kostenersatzrechts;</p><p>praxisorientiert mit Fallbeispielen</p><p>&nbsp;</p><p>15.30 - 17.00 (KLOTZ/LEHNER)</p><p>Fortsetzung:</p><p>Grundz&uuml;ge des Kostenersatzrechts;</p><p>praxisorientiert mit Fallbeispielen</p><p>&nbsp;</p><p><strong>Donnerstag, 15. Oktober 2026</strong></p><p>09.00 - 10.30 (W&Ouml;SS/LEHNER)</p><p>Anwaltliche Anti-Geldw&auml;scherei-Compliance:</p><p>Merkmale, Methoden und Formen von Geldw&auml;scherei;</p><p>Identifikation &bdquo;Know Your Customer&ldquo;;</p><p>Verhaltensmuster;</p><p>Pflichten des Rechtsanwaltes;</p><p>Praxisbeispiele</p><p>&nbsp;</p><p>11.00 - 12.30 (W&Ouml;SS/LEHNER)</p><p>Fortsetzung Anwaltliche Anti-Geldw&auml;scherei-Compliance</p><p>&nbsp;</p><p>13.30 - 15.00 (LEHNER/W&Ouml;SS)</p><p>Das Berufsbild des Rechtsanwalts</p><p>Die Grundprinzipien rechtsanwaltlicher T&auml;tigkeit, Schwerpunkt: Unabh&auml;ngigkeit;</p><p>Die Selbstverwaltung der Rechtsanw&auml;lte;</p><p>Verfahrenshilfe;</p><p>Kammerkommiss&auml;r;</p><p>Rechtsanwaltsgesellschaften;</p><p>&nbsp;</p><p>15.30 - 17.00 (LEHNER/W&Ouml;SS)</p><p>Fortsetzung:</p><p>Rechtsanwaltliche Versicherungen;</p><p>Versorgungseinrichtung;</p><p>&Ouml;ffentlichkeitsarbeit und Werbung;</p><p>Kanzleif&uuml;hrung;</p><p>Pflichten gegen&uuml;ber der Standesbeh&ouml;rde; Fortbildungspflicht</p><p>Grundz&uuml;ge der Fremdgeldverwaltung;</p><p>Doppelvertretung;</p><p>Treuepflicht &sect; 9 RAO (Beginn)</p><p>&nbsp;</p><p><strong>Freitag, 16. Oktober 2026</strong></p><p>09.00 - 09.45&nbsp;(LEHNER)</p><p>Disziplinartatbest&auml;nde des DSt</p><p>Grundz&uuml;ge des Disziplinarverfahrens</p><p>&nbsp;</p><p>09.45&nbsp;- 10.30&nbsp;(LEHNER)</p><p>Berufliche Verschwiegenheit</p><p>&nbsp;</p><p>11.00 -&nbsp;12.30 (LEHNER)</p><p>Fallbeispiel: Vorbringen im Gerichtsverfahren (&sect; 9 RAO)</p><p>Verhalten der Rechtsanw&auml;ltin/des Rechtsanwalts</p><p>-&nbsp;&nbsp;&nbsp;&nbsp;&nbsp;&nbsp;&nbsp;gegen&uuml;ber Berufskollegen,</p><p>-&nbsp;&nbsp;&nbsp;&nbsp;&nbsp;&nbsp;&nbsp;gegen&uuml;ber Gerichten, Beh&ouml;rden und Dritten,</p><p>au&szlig;erberufliches Verhalten</p>
PRIORITY:3
END:VEVENT
BEGIN:VEVENT
DTSTART;TZID=UTCTime:20261016T070000Z
DTEND;TZID=UTCTime:20261016T103000Z
SUMMARY:(20261014-6) Standes- und Honorarrecht: Anwaltliche Pflichten, Rechte und Standesvertretung, Honoraransprüche gegenüber KlientInnen und Grundzüge des Kostenersatzrechts
LOCATION:Alphotel Innsbruck (6020 Innsbruck, Bernhard-Höferl-Straße 16)
X-ALT-DESC;FMTTYPE=text/html:<p><strong>Mittwoch, 14. Oktober 2026</strong></p><p>09.00 - 10.30 (KLOTZ/LEHNER)</p><p>Einleitung und &Uuml;berblick</p><p>Honorar und Kosten Teil 1:</p><p>Rechtsgrundlagen und Grenzen des anwaltlichen Honoraranspruchs unter besonderer Ber&uuml;cksichtigung des RATG</p><p>&nbsp;</p><p>11.00 - 12.30 (KLOTZ/LEHNER)</p><p>Fortsetzung Honorar:</p><p>Rechtsgrundlagen und Grenzen des anwaltlichen Honoraranspruchs unter besonderer Ber&uuml;cksichtigung des RATG</p><p>&nbsp;</p><p>13.30 - 15.00 (KLOTZ/LEHNER)</p><p>Honorar und Kosten Teil 2:</p><p>Grundz&uuml;ge des Kostenersatzrechts;</p><p>praxisorientiert mit Fallbeispielen</p><p>&nbsp;</p><p>15.30 - 17.00 (KLOTZ/LEHNER)</p><p>Fortsetzung:</p><p>Grundz&uuml;ge des Kostenersatzrechts;</p><p>praxisorientiert mit Fallbeispielen</p><p>&nbsp;</p><p><strong>Donnerstag, 15. Oktober 2026</strong></p><p>09.00 - 10.30 (W&Ouml;SS/LEHNER)</p><p>Anwaltliche Anti-Geldw&auml;scherei-Compliance:</p><p>Merkmale, Methoden und Formen von Geldw&auml;scherei;</p><p>Identifikation &bdquo;Know Your Customer&ldquo;;</p><p>Verhaltensmuster;</p><p>Pflichten des Rechtsanwaltes;</p><p>Praxisbeispiele</p><p>&nbsp;</p><p>11.00 - 12.30 (W&Ouml;SS/LEHNER)</p><p>Fortsetzung Anwaltliche Anti-Geldw&auml;scherei-Compliance</p><p>&nbsp;</p><p>13.30 - 15.00 (LEHNER/W&Ouml;SS)</p><p>Das Berufsbild des Rechtsanwalts</p><p>Die Grundprinzipien rechtsanwaltlicher T&auml;tigkeit, Schwerpunkt: Unabh&auml;ngigkeit;</p><p>Die Selbstverwaltung der Rechtsanw&auml;lte;</p><p>Verfahrenshilfe;</p><p>Kammerkommiss&auml;r;</p><p>Rechtsanwaltsgesellschaften;</p><p>&nbsp;</p><p>15.30 - 17.00 (LEHNER/W&Ouml;SS)</p><p>Fortsetzung:</p><p>Rechtsanwaltliche Versicherungen;</p><p>Versorgungseinrichtung;</p><p>&Ouml;ffentlichkeitsarbeit und Werbung;</p><p>Kanzleif&uuml;hrung;</p><p>Pflichten gegen&uuml;ber der Standesbeh&ouml;rde; Fortbildungspflicht</p><p>Grundz&uuml;ge der Fremdgeldverwaltung;</p><p>Doppelvertretung;</p><p>Treuepflicht &sect; 9 RAO (Beginn)</p><p>&nbsp;</p><p><strong>Freitag, 16. Oktober 2026</strong></p><p>09.00 - 09.45&nbsp;(LEHNER)</p><p>Disziplinartatbest&auml;nde des DSt</p><p>Grundz&uuml;ge des Disziplinarverfahrens</p><p>&nbsp;</p><p>09.45&nbsp;- 10.30&nbsp;(LEHNER)</p><p>Berufliche Verschwiegenheit</p><p>&nbsp;</p><p>11.00 -&nbsp;12.30 (LEHNER)</p><p>Fallbeispiel: Vorbringen im Gerichtsverfahren (&sect; 9 RAO)</p><p>Verhalten der Rechtsanw&auml;ltin/des Rechtsanwalts</p><p>-&nbsp;&nbsp;&nbsp;&nbsp;&nbsp;&nbsp;&nbsp;gegen&uuml;ber Berufskollegen,</p><p>-&nbsp;&nbsp;&nbsp;&nbsp;&nbsp;&nbsp;&nbsp;gegen&uuml;ber Gerichten, Beh&ouml;rden und Dritten,</p><p>au&szlig;erberufliches Verhalten</p>
PRIORITY:3
END:VEVENT
END:VCALENDAR
