BEGIN:VCALENDAR
VERSION:2.0
PRODID:awak.at
CALSCALE:GREGORIAN
METHOD:PUBLISH
BEGIN:VTIMEZONE
TZID:UTCTime
BEGIN:STANDARD
DTSTART:19671028T030000Z
RRULE:FREQ=YEARLY;BYDAY=-1SU;BYMONTH=10
TZOFFSETFROM:+0100
TZOFFSETTO:+0000
END:STANDARD
BEGIN:DAYLIGHT
DTSTART:19870325T020000Z
RRULE:FREQ=YEARLY;BYDAY=1SU;BYMONTH=3
TZOFFSETFROM:+0000
TZOFFSETTO:+0000
END:DAYLIGHT
END:VTIMEZONE
BEGIN:VEVENT
DTSTART;TZID=UTCTime:20261021T070000Z
DTEND;TZID=UTCTime:20261021T150000Z
SUMMARY:(20261021-3) Steuern und Abgaben aus juristischer Sicht - Grundbegriffe und Materien in der anwaltlichen Praxis
LOCATION:Courtyard by Marriott Linz (4020 Linz, Europaplatz 2)
X-ALT-DESC;FMTTYPE=text/html:<p><strong>Mittwoch, 21. Oktober 2026&nbsp;</strong></p><p>09.00 - 10.30<br />Einkommensteuer: Pers&ouml;nliche und sachliche Steuerpflicht, Steuerberechnung, Steuererhebung, Immo-ESt</p><p>11.00 - 12.30<br />K&ouml;rperschaftsteuer: Pers&ouml;nliche und sachliche Steuerpflicht, Steuerberechnung, spezifische Probleme bei K&ouml;rperschaften; Unternehmenssteuerrecht; steuerlicher Rechtsformenvergleich</p><p>13.30 - 15.00<br />Umsatzsteuer: Charakterisierung, Steuergegenstand, Steuerbefreiung, Bemessungsgrundlage, Steuers&auml;tze, Rechnungen, Vorsteuerabzug, Durchf&uuml;hrung der Besteuerung, Binnenmarktregelung, Umsatzsteuer bei Immobiliengesch&auml;ften</p><p>15.30 - 17.00<br />Verfahrensrecht: Verfahrensgrunds&auml;tze, Buch- und Betriebspr&uuml;fung, Ermittlungsverfahren, Sch&auml;tzung, Rechtsmittelverfahren<br />Finanzstrafrecht</p><p>&nbsp;</p><p><strong>Donnerstag, 22. Oktober 2026&nbsp;</strong><br /><br />09.00 - 10.30<br />Grunderwerbsteuer</p><p>11.00 - 12.30<br />Geb&uuml;hren f&uuml;r Rechtsgesch&auml;fte, Schenkungsmeldungen, Stiftungseingangssteuer</p>
PRIORITY:3
END:VEVENT
BEGIN:VEVENT
DTSTART;TZID=UTCTime:20261022T070000Z
DTEND;TZID=UTCTime:20261022T103000Z
SUMMARY:(20261021-3) Steuern und Abgaben aus juristischer Sicht - Grundbegriffe und Materien in der anwaltlichen Praxis
LOCATION:Courtyard by Marriott Linz (4020 Linz, Europaplatz 2)
X-ALT-DESC;FMTTYPE=text/html:<p><strong>Mittwoch, 21. Oktober 2026&nbsp;</strong></p><p>09.00 - 10.30<br />Einkommensteuer: Pers&ouml;nliche und sachliche Steuerpflicht, Steuerberechnung, Steuererhebung, Immo-ESt</p><p>11.00 - 12.30<br />K&ouml;rperschaftsteuer: Pers&ouml;nliche und sachliche Steuerpflicht, Steuerberechnung, spezifische Probleme bei K&ouml;rperschaften; Unternehmenssteuerrecht; steuerlicher Rechtsformenvergleich</p><p>13.30 - 15.00<br />Umsatzsteuer: Charakterisierung, Steuergegenstand, Steuerbefreiung, Bemessungsgrundlage, Steuers&auml;tze, Rechnungen, Vorsteuerabzug, Durchf&uuml;hrung der Besteuerung, Binnenmarktregelung, Umsatzsteuer bei Immobiliengesch&auml;ften</p><p>15.30 - 17.00<br />Verfahrensrecht: Verfahrensgrunds&auml;tze, Buch- und Betriebspr&uuml;fung, Ermittlungsverfahren, Sch&auml;tzung, Rechtsmittelverfahren<br />Finanzstrafrecht</p><p>&nbsp;</p><p><strong>Donnerstag, 22. Oktober 2026&nbsp;</strong><br /><br />09.00 - 10.30<br />Grunderwerbsteuer</p><p>11.00 - 12.30<br />Geb&uuml;hren f&uuml;r Rechtsgesch&auml;fte, Schenkungsmeldungen, Stiftungseingangssteuer</p>
PRIORITY:3
END:VEVENT
END:VCALENDAR
